BEGIN:VCALENDAR
VERSION:2.0
PRODID:-//DJ BAR FLAT - ECPv6.0.10//NONSGML v1.0//EN
CALSCALE:GREGORIAN
METHOD:PUBLISH
X-WR-CALNAME:DJ BAR FLAT
X-ORIGINAL-URL:https://djbarflat.com
X-WR-CALDESC:Events for DJ BAR FLAT
REFRESH-INTERVAL;VALUE=DURATION:PT1H
X-Robots-Tag:noindex
X-PUBLISHED-TTL:PT1H
BEGIN:VTIMEZONE
TZID:Asia/Tokyo
BEGIN:STANDARD
TZOFFSETFROM:+0900
TZOFFSETTO:+0900
TZNAME:JST
DTSTART:20230101T000000
END:STANDARD
END:VTIMEZONE
BEGIN:VEVENT
DTSTART;TZID=Asia/Tokyo:20230221T080000
DTEND;TZID=Asia/Tokyo:20230222T010000
DTSTAMP:20260425T100656
CREATED:20230210T075355Z
LAST-MODIFIED:20230210T075400Z
UID:272-1676966400-1677027600@djbarflat.com
SUMMARY:レコードの会
DESCRIPTION:円蔵・レコード愛好家の集い会員絶賛募集中普段レコードでDJしない方も大歓迎です。日々収集しているナイスな音源を是非披露して下さい。
URL:https://djbarflat.com/schedule/%e3%83%ac%e3%82%b3%e3%83%bc%e3%83%89%e3%81%ae%e4%bc%9a/
LOCATION:DJ BAR FLAT\, 高円寺北2-38-14-2B\, 杉並区\, 東京\, 166-0002\, Japan
ATTACH;FMTTYPE=image/jpeg:https://djbarflat.com/wp-content/uploads/2023/02/3QXZPkMGzCBusr4pimxnEq6N9.jpg
END:VEVENT
END:VCALENDAR