BEGIN:VCALENDAR
VERSION:2.0
PRODID:-//DJ BAR FLAT - ECPv6.0.10//NONSGML v1.0//EN
CALSCALE:GREGORIAN
METHOD:PUBLISH
X-WR-CALNAME:DJ BAR FLAT
X-ORIGINAL-URL:https://djbarflat.com
X-WR-CALDESC:Events for DJ BAR FLAT
REFRESH-INTERVAL;VALUE=DURATION:PT1H
X-Robots-Tag:noindex
X-PUBLISHED-TTL:PT1H
BEGIN:VTIMEZONE
TZID:Asia/Tokyo
BEGIN:STANDARD
TZOFFSETFROM:+0900
TZOFFSETTO:+0900
TZNAME:JST
DTSTART:20230101T000000
END:STANDARD
END:VTIMEZONE
BEGIN:VEVENT
DTSTART;TZID=Asia/Tokyo:20230225T200000
DTEND;TZID=Asia/Tokyo:20230226T010000
DTSTAMP:20260425T100654
CREATED:20230210T075648Z
LAST-MODIFIED:20230223T105723Z
UID:275-1677355200-1677373200@djbarflat.com
SUMMARY:出張大蔵 DAY1
DESCRIPTION:なつみとスーザンによる出張大蔵🧚‍♀️🧚一緒に飲みたい。
URL:https://djbarflat.com/schedule/%e5%87%ba%e5%bc%b5%e5%a4%a7%e8%94%b5-day1/
LOCATION:DJ BAR FLAT\, 高円寺北2-38-14-2B\, 杉並区\, 東京\, 166-0002\, Japan
ATTACH;FMTTYPE=image/jpeg:https://djbarflat.com/wp-content/uploads/2023/02/93389.jpg
END:VEVENT
END:VCALENDAR