BEGIN:VCALENDAR
VERSION:2.0
PRODID:-//DJ BAR FLAT - ECPv6.0.10//NONSGML v1.0//EN
CALSCALE:GREGORIAN
METHOD:PUBLISH
X-WR-CALNAME:DJ BAR FLAT
X-ORIGINAL-URL:https://djbarflat.com
X-WR-CALDESC:Events for DJ BAR FLAT
REFRESH-INTERVAL;VALUE=DURATION:PT1H
X-Robots-Tag:noindex
X-PUBLISHED-TTL:PT1H
BEGIN:VTIMEZONE
TZID:Asia/Tokyo
BEGIN:STANDARD
TZOFFSETFROM:+0900
TZOFFSETTO:+0900
TZNAME:JST
DTSTART:20230101T000000
END:STANDARD
END:VTIMEZONE
BEGIN:VEVENT
DTSTART;TZID=Asia/Tokyo:20230305T180000
DTEND;TZID=Asia/Tokyo:20230305T230000
DTSTAMP:20260425T081725
CREATED:20230221T083035Z
LAST-MODIFIED:20230302T044841Z
UID:293-1678039200-1678057200@djbarflat.com
SUMMARY:Tech on Tap
DESCRIPTION:IT関係の方は2杯目以降1杯無料！クーポン配布中！ \n\n\n\nhttps://lin.ee/aavq5X0 \n\n\n\nTECH ON TAPは、IT業界の方に限らず、音楽やお酒が好きな方、新しい出会いを求める方にもオススメのイベントです！高円寺DJ BAR FLATでは、毎週日曜日に、アニメ、J-POP、ボカロ、ゲーム曲など様々なジャンルの音楽が流れ、IT業界の仲間たちが集まり、楽しく語り合うTECH ON TAPを開催しています！ \n\n\n\n参加者同士の交流を深めるために、ミニゲームやチーム戦なども用意されており、盛り上がりもバッチリ！ \n\n\n\n高円寺DJ BAR FLATは、おしゃれな内装と居心地の良い雰囲気が特徴で、音楽を楽しみながらくつろげます。お酒も豊富に取り揃えており、ビールやカクテル、日本酒など、幅広い種類があります。 \n\n\n\nTECH ON TAPは、普段の仕事や日常から解放され、音楽やお酒を楽しみながら、新しい発見や出会いを楽しむ絶好の機会です！ぜひ、お友達や同僚と一緒に、楽しい夜を過ごしにいらしてください！ \n\n\n\nDJsサモハン今井亨ぢる
URL:https://djbarflat.com/schedule/tech-on-tap/
LOCATION:DJ BAR FLAT\, 高円寺北2-38-14-2B\, 杉並区\, 東京\, 166-0002\, Japan
ATTACH;FMTTYPE=image/png:https://djbarflat.com/wp-content/uploads/2023/02/techontap.png
END:VEVENT
END:VCALENDAR