BEGIN:VCALENDAR
VERSION:2.0
PRODID:-//DJ BAR FLAT - ECPv6.0.10//NONSGML v1.0//EN
CALSCALE:GREGORIAN
METHOD:PUBLISH
X-WR-CALNAME:DJ BAR FLAT
X-ORIGINAL-URL:https://djbarflat.com
X-WR-CALDESC:Events for DJ BAR FLAT
REFRESH-INTERVAL;VALUE=DURATION:PT1H
X-Robots-Tag:noindex
X-PUBLISHED-TTL:PT1H
BEGIN:VTIMEZONE
TZID:Asia/Tokyo
BEGIN:STANDARD
TZOFFSETFROM:+0900
TZOFFSETTO:+0900
TZNAME:JST
DTSTART:20230101T000000
END:STANDARD
END:VTIMEZONE
BEGIN:VEVENT
DTSTART;TZID=Asia/Tokyo:20230307T200000
DTEND;TZID=Asia/Tokyo:20230308T010000
DTSTAMP:20260425T115440
CREATED:20230302T082342Z
LAST-MODIFIED:20230307T060036Z
UID:365-1678219200-1678237200@djbarflat.com
SUMMARY:ゆるあに
DESCRIPTION:ルール:BPM125までそれ以外は自由です。 \n\n\n\nゆったりと飲みながらアニソンを楽しむためのイベントです。OP/ED/キャラソン/劇伴　何でもアリです。新旧も問いません。 \n\n\n\nアニソン好きな方・アニソンDJデビューしたい方は是非！ \n\n\n\n✜✜✜✜✜✜✜✜✜✜✜✜🚉JR高円寺駅🏤DJ BAR FLAT (旧bar円蔵)📍東京都杉並区高円寺北2-38-14 富士ビル2-B \n\n\n\n🎛機材CD：CDJ850×2※LINK機能なしターンテーブル：SL1200mk3×2※針はご持参下さいミキサー：reloop RMX60
URL:https://djbarflat.com/schedule/%e3%82%86%e3%82%8b%e3%81%82%e3%81%ab/
LOCATION:東京
ATTACH;FMTTYPE=image/jpeg:https://djbarflat.com/wp-content/uploads/2023/03/FqlZuMWaIAAS6B2.jpg
END:VEVENT
BEGIN:VEVENT
DTSTART;TZID=Asia/Tokyo:20230305T180000
DTEND;TZID=Asia/Tokyo:20230305T230000
DTSTAMP:20260425T115440
CREATED:20230221T083035Z
LAST-MODIFIED:20230302T044841Z
UID:293-1678039200-1678057200@djbarflat.com
SUMMARY:Tech on Tap
DESCRIPTION:IT関係の方は2杯目以降1杯無料！クーポン配布中！ \n\n\n\nhttps://lin.ee/aavq5X0 \n\n\n\nTECH ON TAPは、IT業界の方に限らず、音楽やお酒が好きな方、新しい出会いを求める方にもオススメのイベントです！高円寺DJ BAR FLATでは、毎週日曜日に、アニメ、J-POP、ボカロ、ゲーム曲など様々なジャンルの音楽が流れ、IT業界の仲間たちが集まり、楽しく語り合うTECH ON TAPを開催しています！ \n\n\n\n参加者同士の交流を深めるために、ミニゲームやチーム戦なども用意されており、盛り上がりもバッチリ！ \n\n\n\n高円寺DJ BAR FLATは、おしゃれな内装と居心地の良い雰囲気が特徴で、音楽を楽しみながらくつろげます。お酒も豊富に取り揃えており、ビールやカクテル、日本酒など、幅広い種類があります。 \n\n\n\nTECH ON TAPは、普段の仕事や日常から解放され、音楽やお酒を楽しみながら、新しい発見や出会いを楽しむ絶好の機会です！ぜひ、お友達や同僚と一緒に、楽しい夜を過ごしにいらしてください！ \n\n\n\nDJsサモハン今井亨ぢる
URL:https://djbarflat.com/schedule/tech-on-tap/
LOCATION:DJ BAR FLAT\, 高円寺北2-38-14-2B\, 杉並区\, 東京\, 166-0002\, Japan
ATTACH;FMTTYPE=image/png:https://djbarflat.com/wp-content/uploads/2023/02/techontap.png
END:VEVENT
BEGIN:VEVENT
DTSTART;TZID=Asia/Tokyo:20230303T080000
DTEND;TZID=Asia/Tokyo:20230304T010000
DTSTAMP:20260425T115440
CREATED:20230214T052543Z
LAST-MODIFIED:20230302T045950Z
UID:284-1677830400-1677891600@djbarflat.com
SUMMARY:BAR NIGHT
DESCRIPTION:2023.03.03（金）高円寺DJ BAR FLATでBAR NIGHT！4名のDJを招待して最高の夜を過ごしましょう。 \n\n\n\nDJs \n\n\n\nMr.tsubaking(Boogie the マッハモータース)アルプスよしえ（あやまんJAPANユース）ヨースケ
URL:https://djbarflat.com/schedule/284/
LOCATION:DJ BAR FLAT\, 高円寺北2-38-14-2B\, 杉並区\, 東京\, 166-0002\, Japan
ATTACH;FMTTYPE=image/jpeg:https://djbarflat.com/wp-content/uploads/2023/03/332785654_203819928901729_2911465207641591082_n.jpg
END:VEVENT
BEGIN:VEVENT
DTSTART;TZID=Asia/Tokyo:20230226T200000
DTEND;TZID=Asia/Tokyo:20230227T010000
DTSTAMP:20260425T115440
CREATED:20230210T075833Z
LAST-MODIFIED:20230223T105803Z
UID:278-1677441600-1677459600@djbarflat.com
SUMMARY:出張大蔵DAY2
DESCRIPTION:なつみとスーザンによる出張大蔵🧚‍♀️🧚一緒に飲みたい。
URL:https://djbarflat.com/schedule/%e5%87%ba%e5%bc%b5%e5%a4%a7%e8%94%b5day2/
LOCATION:DJ BAR FLAT\, 高円寺北2-38-14-2B\, 杉並区\, 東京\, 166-0002\, Japan
ATTACH;FMTTYPE=image/jpeg:https://djbarflat.com/wp-content/uploads/2023/02/93389-1.jpg
END:VEVENT
BEGIN:VEVENT
DTSTART;TZID=Asia/Tokyo:20230225T200000
DTEND;TZID=Asia/Tokyo:20230226T010000
DTSTAMP:20260425T115440
CREATED:20230210T075648Z
LAST-MODIFIED:20230223T105723Z
UID:275-1677355200-1677373200@djbarflat.com
SUMMARY:出張大蔵 DAY1
DESCRIPTION:なつみとスーザンによる出張大蔵🧚‍♀️🧚一緒に飲みたい。
URL:https://djbarflat.com/schedule/%e5%87%ba%e5%bc%b5%e5%a4%a7%e8%94%b5-day1/
LOCATION:DJ BAR FLAT\, 高円寺北2-38-14-2B\, 杉並区\, 東京\, 166-0002\, Japan
ATTACH;FMTTYPE=image/jpeg:https://djbarflat.com/wp-content/uploads/2023/02/93389.jpg
END:VEVENT
BEGIN:VEVENT
DTSTART;TZID=Asia/Tokyo:20230224T200000
DTEND;TZID=Asia/Tokyo:20230225T010000
DTSTAMP:20260425T115440
CREATED:20230223T111202Z
LAST-MODIFIED:20230224T124731Z
UID:320-1677268800-1677286800@djbarflat.com
SUMMARY:ロック寄りのイベント
DESCRIPTION:2月24日には、高円寺のDJBARFLATで、ロック寄りの素晴らしいイベントが開催されます！K.KAZUMA、トモ⭐︎、のすけ、ワタルなど、素晴らしいDJたちが出演します。一晩中熱い曲をかけてくれます。 \n\n\n\n経験豊富なロッカーの方や、普段あまり聞かない方でも、このイベントは楽しめます。友達を誘って、ダンスシューズを履いて、一晩中楽しみましょう！ \n\n\n\n音楽と素晴らしい雰囲気に包まれるこの素晴らしい夜をお見逃しなく！2月24日、DJBARFLATでお待ちしています！ \n\n\n\nAre you ready to rock\, High-Koenji? \n\n\n\nGet ready to party at DJBARFLAT on February 24th for an electrifying night of rock! We’ve got an amazing lineup of talented DJs\, including K.KAZUMA\, トモ⭐︎\, のすけ\, and ワタル\, who will be spinning the hottest tracks all night long. \n\n\n\nWhether you’re a seasoned rocker or a casual listener\, there’s something for everyone at this event. So grab your friends\, put on your dancing shoes\, and join us for a night of non-stop fun and excitement. \n\n\n\nDon’t miss out on this incredible night of music and good vibes! See you there at DJBARFLAT on February 24th!
URL:https://djbarflat.com/schedule/%e3%83%ad%e3%83%83%e3%82%af%e5%af%84%e3%82%8a%e3%81%ae%e3%82%a4%e3%83%99%e3%83%b3%e3%83%88/
LOCATION:DJ BAR FLAT\, 高円寺北2-38-14-2B\, 杉並区\, 東京\, 166-0002\, Japan
ATTACH;FMTTYPE=image/png:https://djbarflat.com/wp-content/uploads/2023/02/ロック寄りのイベント-1.png
END:VEVENT
BEGIN:VEVENT
DTSTART;TZID=Asia/Tokyo:20230222T200000
DTEND;TZID=Asia/Tokyo:20230223T010000
DTSTAMP:20260425T115440
CREATED:20230203T160819Z
LAST-MODIFIED:20230222T033909Z
UID:111-1677096000-1677114000@djbarflat.com
SUMMARY:Web3 Night
DESCRIPTION:Web3時代の到来を感じられる、最新技術とトレンドを学べるイベントが今ここに！2023年2月22日に開催されるWeb3イベントに参加して、未来を切り拓こう。
URL:https://djbarflat.com/schedule/web3-night/
LOCATION:DJ BAR FLAT\, 高円寺北2-38-14-2B\, 杉並区\, 東京\, 166-0002\, Japan
ATTACH;FMTTYPE=image/png:https://djbarflat.com/wp-content/uploads/2023/02/20230222_web3night.png
END:VEVENT
BEGIN:VEVENT
DTSTART;TZID=Asia/Tokyo:20230221T080000
DTEND;TZID=Asia/Tokyo:20230222T010000
DTSTAMP:20260425T115440
CREATED:20230210T075355Z
LAST-MODIFIED:20230210T075400Z
UID:272-1676966400-1677027600@djbarflat.com
SUMMARY:レコードの会
DESCRIPTION:円蔵・レコード愛好家の集い会員絶賛募集中普段レコードでDJしない方も大歓迎です。日々収集しているナイスな音源を是非披露して下さい。
URL:https://djbarflat.com/schedule/%e3%83%ac%e3%82%b3%e3%83%bc%e3%83%89%e3%81%ae%e4%bc%9a/
LOCATION:DJ BAR FLAT\, 高円寺北2-38-14-2B\, 杉並区\, 東京\, 166-0002\, Japan
ATTACH;FMTTYPE=image/jpeg:https://djbarflat.com/wp-content/uploads/2023/02/3QXZPkMGzCBusr4pimxnEq6N9.jpg
END:VEVENT
BEGIN:VEVENT
DTSTART;TZID=Asia/Tokyo:20230219T200000
DTEND;TZID=Asia/Tokyo:20230220T010000
DTSTAMP:20260425T115440
CREATED:20230210T075006Z
LAST-MODIFIED:20230210T075007Z
UID:269-1676836800-1676854800@djbarflat.com
SUMMARY:JPOP Night
DESCRIPTION:あなたの世代のちょっと懐かしいJPOP今をときめく新時代のJPOP青春時代のJPOP憧れだったJPOPあなたのJPOPを聴かせてほしい
URL:https://djbarflat.com/schedule/jpop-night/
LOCATION:東京
ATTACH;FMTTYPE=image/jpeg:https://djbarflat.com/wp-content/uploads/2023/02/Rc2aGCBEjkhdNsbDzHuTx1LF4.jpg
END:VEVENT
BEGIN:VEVENT
DTSTART;TZID=Asia/Tokyo:20230215T200000
DTEND;TZID=Asia/Tokyo:20230216T010000
DTSTAMP:20260425T115440
CREATED:20230210T064359Z
LAST-MODIFIED:20230210T073952Z
UID:256-1676491200-1676509200@djbarflat.com
SUMMARY:シンハウス
DESCRIPTION:高円寺で新しい音楽体験が始まる！「シンハウス」というハウスミュージックイベントを開催します。最新のトラックと素敵な空間で、ハウスミュージックの世界を楽しんでみませんか？ぜひ遊びに来てください！
URL:https://djbarflat.com/schedule/%e3%82%b7%e3%83%b3%e3%83%8f%e3%82%a6%e3%82%b9/
LOCATION:DJ BAR FLAT\, 高円寺北2-38-14-2B\, 杉並区\, 東京\, 166-0002\, Japan
ATTACH;FMTTYPE=image/jpeg:https://djbarflat.com/wp-content/uploads/2023/02/VnksY2h1BZRjwS0dDEFfHA9KC.jpg
END:VEVENT
BEGIN:VEVENT
DTSTART;TZID=Asia/Tokyo:20230212T200000
DTEND;TZID=Asia/Tokyo:20230213T010000
DTSTAMP:20260425T115440
CREATED:20230203T151154Z
LAST-MODIFIED:20230206T074947Z
UID:85-1676232000-1676250000@djbarflat.com
SUMMARY:BACHICON VALENTINE BAR
DESCRIPTION:高円寺でバレンタインに素敵な音楽体験を！ばちコンがSpoon配信からリアルイベントに登場！この日限りの2人のステージを見逃すな！
URL:https://djbarflat.com/schedule/bachicon-valent-ine-bar/
LOCATION:DJ BAR FLAT\, 高円寺北2-38-14-2B\, 杉並区\, 東京\, 166-0002\, Japan
ATTACH;FMTTYPE=image/png:https://djbarflat.com/wp-content/uploads/2023/02/bachicon.png
END:VEVENT
END:VCALENDAR