BEGIN:VCALENDAR
VERSION:2.0
PRODID:-//DJ BAR FLAT - ECPv6.0.10//NONSGML v1.0//EN
CALSCALE:GREGORIAN
METHOD:PUBLISH
X-ORIGINAL-URL:https://djbarflat.com
X-WR-CALDESC:Events for DJ BAR FLAT
REFRESH-INTERVAL;VALUE=DURATION:PT1H
X-Robots-Tag:noindex
X-PUBLISHED-TTL:PT1H
BEGIN:VTIMEZONE
TZID:Asia/Tokyo
BEGIN:STANDARD
TZOFFSETFROM:+0900
TZOFFSETTO:+0900
TZNAME:JST
DTSTART:20230101T000000
END:STANDARD
END:VTIMEZONE
BEGIN:VEVENT
DTSTART;TZID=Asia/Tokyo:20230317T200000
DTEND;TZID=Asia/Tokyo:20230318T010000
DTSTAMP:20260426T003443
CREATED:20230302T082525Z
LAST-MODIFIED:20230302T082525Z
UID:368-1679083200-1679101200@djbarflat.com
SUMMARY:SWEET SOUND
DESCRIPTION:テーマは「心地よい音」 \n\n\n\nオールジャンルですが、会話も楽しめるようゆったりした選曲でお願いします。 \n\n\n\n✜✜✜✜✜✜✜✜✜✜✜✜ \n\n\n\n🚉JR高円寺駅🏤DJ BAR FLAT (旧bar円蔵)📍東京都杉並区高円寺北2-38-14 富士ビル2-B \n\n\n\n🎛機材CD：CDJ850×2※LINK機能なしターンテーブル：SL1200mk3×2※針はご持参下さいミキサー：reloop RMX60
URL:https://djbarflat.com/schedule/sweet-sound/
LOCATION:東京
END:VEVENT
BEGIN:VEVENT
DTSTART;TZID=Asia/Tokyo:20230318T200000
DTEND;TZID=Asia/Tokyo:20230319T010000
DTSTAMP:20260426T003443
CREATED:20230223T124649Z
LAST-MODIFIED:20230318T030839Z
UID:332-1679169600-1679187600@djbarflat.com
SUMMARY:DRAGON NIGHT
DESCRIPTION:日本のポップミュージックの最高峰が一堂に会する、JPOPDJイベントが開催決定！ 豪華なラインナップに加え、ユニークなステージ演出やサプライズ企画も盛りだくさん！ 踊りたくなるようなリズムと、思わず歌いたくなるメロディで、今までにない爽快な音楽体験をお届けします。 さあ、あなたもJPOPDJイベントに参加して、最高の音楽と最高の時間を共有しましょう！ \n\n\n\n【タイムテーブル】20:00 ペイジ21:00 もりぢを君22:00 シン・モリプトタツヤ23:00 DJ MURA24:00 B2B \n\n\n\n【DJs】もりぢを君 @mimimimismペイジ @kenpage0715シン・モリプトタツヤ @Tatsuya_MoribeDJ MURA @ryotanmm
URL:https://djbarflat.com/schedule/dragon-night/
LOCATION:DJ BAR FLAT\, 高円寺北2-38-14-2B\, 杉並区\, 東京\, 166-0002\, Japan
ATTACH;FMTTYPE=image/png:https://djbarflat.com/wp-content/uploads/2023/03/dragonnnight.png
END:VEVENT
BEGIN:VEVENT
DTSTART;TZID=Asia/Tokyo:20230325T200000
DTEND;TZID=Asia/Tokyo:20230325T010000
DTSTAMP:20260426T003443
CREATED:20230216T110419Z
LAST-MODIFIED:20230310T090137Z
UID:288-1679774400-1679706000@djbarflat.com
SUMMARY:ヘチマリゾット
DESCRIPTION:宇宙開発が進む未来、人類は宇宙の果てにまで進出していた。そんな中、ある惑星で発見されたのは、とある野菜「ヘチマ」だった。そのヘチマは、地球のものとは違い、非常に特殊な成分を含んでおり、生命を維持する上で必要不可欠な物質として注目されていた。そんなヘチマを研究していた科学者たちは、ある発見をする。それは、ヘチマを特殊な方法で加工することで、味覚だけでなく記憶や感情にも影響を与えることができるというものだった。その成果を生かし、あるDJが考案したのが「ヘチマリゾット」だった。このリゾットは、食べると過去の思い出や感情がフラッシュバックするというもので、人々はそれを求めてこの惑星に押し寄せた。そんな中、一人の男性がこのリゾットを求め、高円寺DJ BAR FLATにたどり着く。男性の名は、リョウ。彼は幼少期に生き別れた母親を探していた。母親は、リョウがまだ幼かった頃、宇宙船事故で消息を絶ってしまったのだ。しかし、リョウはある日、母親がこの惑星にいるという情報を手に入れた。そして、その情報を信じ、ヘチマリゾットを求めて高円寺DJ BAR FLATにたどり着いたのだ。そこでリョウは、リゾットを注文すると、突如として自分が母親と一緒に過ごした思い出がフラッシュバックする。そして、彼女がこの店で働いていることを知る。驚くリョウに、母親は彼が幼い頃に食べたヘチマの味を再現したリゾットを作っていたのだった。母親は、事故によってリョウが生き別れになったことを知っていたが、彼女自身も事故で記憶を失っており、それを思い出すことができなかった。しかし、リゾットの力によって彼女は記憶を取り戻し、生き別れになっていた息子と再会することができた。二人は、お互いを抱きしめ、涙を流しながら、長い間抱き合っていた。周りの客たちもその光景を見て、心温まる気持ちになっていた。そこで、母親はリョウに「この惑星に来た理由は何？」と尋ねた。リョウは母親に自分が幼い頃に彼女が作ってくれたヘチマの味を忘れられず、その味を求めてたどり着いたと答えた。母親は、リョウに自分がこの店で働いている理由を語った。彼女は、宇宙船事故に遭った後、記憶を失い、自分が誰なのかすら分からない状態でこの惑星に漂着していた。そんな中、彼女はこの店で出会った人たちに助けられ、働き始めたのだった。そして、母親は自分が失っていた記憶をリゾットの力で取り戻し、息子と再会できたことに感謝しながら、「私たちは宇宙で生きていくために、多くのものを犠牲にしてきたけれど、その中で大切なものを見失ってしまった。でも、今、あなたと再会して、ヘチマの味を通して、私たちは大切なものを取り戻せた」と語った。二人は、長い間話をしながら、母親が作ったヘチマリゾットを食べていた。その味は、二人にとって心地よく、思い出深いものだった。その後、リョウは母親と一緒にこの店で働き始め、二人は再び絆を取り戻した。そして、この惑星で生きていくことを決めた。彼らの物語は、宇宙開発が進む未来に生きる人々に、大切なものを見失わないように、心に残るメッセージを与えたのであった。 \n\n\n\n未来の惑星で、特殊な野菜ヘチマが発見された。その味に隠された秘密を解き明かす『ヘチマリゾット』イベントが3月25日、高円寺DJ BAR FLATにて開催！思い出や感情がフラッシュバックするリゾットの力で、生き別れになっていた母親との感動の再会が実現！未来の人々に残るメッセージを感じよう。 \n\n\n\nDJsリョウ母親環七手押し車 \n\n\n\nFood母のヘチマリゾット
URL:https://djbarflat.com/schedule/%e3%83%98%e3%83%81%e3%83%9e%e3%83%aa%e3%82%be%e3%83%83%e3%83%88/
LOCATION:DJ BAR FLAT\, 高円寺北2-38-14-2B\, 杉並区\, 東京\, 166-0002\, Japan
ATTACH;FMTTYPE=image/png:https://djbarflat.com/wp-content/uploads/2023/02/hetima.png
END:VEVENT
BEGIN:VEVENT
DTSTART;TZID=Asia/Tokyo:20230328T080000
DTEND;TZID=Asia/Tokyo:20230329T010000
DTSTAMP:20260426T003443
CREATED:20230302T082626Z
LAST-MODIFIED:20230304T095315Z
UID:370-1679990400-1680051600@djbarflat.com
SUMMARY:レコードの会
DESCRIPTION:レコード愛好家の集い普段レコードでDJしない方も大歓迎です。日々収集しているナイスな音源を是非披露して下さい。
URL:https://djbarflat.com/schedule/%e3%83%ac%e3%82%b3%e3%83%bc%e3%83%89%e3%81%ae%e4%bc%9a-2/
LOCATION:東京
END:VEVENT
END:VCALENDAR